BEGIN:VCALENDAR
VERSION:2.0
PRODID:-//Noelle Randall - ECPv6.15.20//NONSGML v1.0//EN
CALSCALE:GREGORIAN
METHOD:PUBLISH
X-WR-CALNAME:Noelle Randall
X-ORIGINAL-URL:https://noellerandall.com
X-WR-CALDESC:Events for Noelle Randall
REFRESH-INTERVAL;VALUE=DURATION:PT1H
X-Robots-Tag:noindex
X-PUBLISHED-TTL:PT1H
BEGIN:VTIMEZONE
TZID:America/New_York
BEGIN:DAYLIGHT
TZOFFSETFROM:-0500
TZOFFSETTO:-0400
TZNAME:EDT
DTSTART:20210314T070000
END:DAYLIGHT
BEGIN:STANDARD
TZOFFSETFROM:-0400
TZOFFSETTO:-0500
TZNAME:EST
DTSTART:20211107T060000
END:STANDARD
BEGIN:DAYLIGHT
TZOFFSETFROM:-0500
TZOFFSETTO:-0400
TZNAME:EDT
DTSTART:20220313T070000
END:DAYLIGHT
BEGIN:STANDARD
TZOFFSETFROM:-0400
TZOFFSETTO:-0500
TZNAME:EST
DTSTART:20221106T060000
END:STANDARD
BEGIN:DAYLIGHT
TZOFFSETFROM:-0500
TZOFFSETTO:-0400
TZNAME:EDT
DTSTART:20230312T070000
END:DAYLIGHT
BEGIN:STANDARD
TZOFFSETFROM:-0400
TZOFFSETTO:-0500
TZNAME:EST
DTSTART:20231105T060000
END:STANDARD
END:VTIMEZONE
BEGIN:VEVENT
DTSTART;VALUE=DATE:20220405
DTEND;VALUE=DATE:20220406
DTSTAMP:20260419T150845
CREATED:20220325T204623Z
LAST-MODIFIED:20220325T204945Z
UID:57676-1649116800-1649203199@noellerandall.com
SUMMARY:Millionaire Within Her Premiere
DESCRIPTION:Change is coming and more women than ever are finding themselves in the position to create successful businesses! From stay-at-home mom to successful entrepreneur is becoming more common and continue to be the growing trend. Join me and other successful female entrepreneurs and discover how you can be ready for what is coming.
URL:https://noellerandall.com/event/millionaire-within-her-premiere/
LOCATION:FL
CATEGORIES:Virtual Events
ATTACH;FMTTYPE=image/png:https://noellerandall.com/wp-content/uploads/2022/03/mwh-logo-01.png
END:VEVENT
BEGIN:VEVENT
DTSTART;TZID=America/New_York:20220312T080000
DTEND;TZID=America/New_York:20220312T210000
DTSTAMP:20260419T150845
CREATED:20211229T212459Z
LAST-MODIFIED:20230321T111703Z
UID:53990-1647072000-1647118800@noellerandall.com
SUMMARY:NuuRezTours - Orlando\, FL
DESCRIPTION:Join real estate entrepreneur Noelle Randall and the Nuu Rez Inc. “A-Team” as they take you inside some of their most profitable Airbnb properties in sunny Orlando\, FL. \nThe Nuu Rez team will be breaking down EXACTLY how they acquire\, furnish\, and market each property to ensure maximum occupancy and PROFIT all year round. We will be deep diving and answering your Airbnb questions down to the decimal!\n\n#NuuRezTours will not be just another tour around town…\n\nYou will be learning a WEALTH of knowledge  while being surrounded by an incredible network of business-minded people! Take this opportunity to ask questions\, exchange contacts\, and build life long business partnerships that will take YOUR business to the next Level!
URL:https://noellerandall.com/event/nuureztours-orlando-fl-031222/
LOCATION:Embassy Suites by Hilton Orlando Lake Buena Vista South\, 4955 Kyngs Heath Rd\, Kissimmee\, FL\, 34746\, United States
CATEGORIES:NuuRez Tours
ATTACH;FMTTYPE=image/jpeg:https://noellerandall.com/wp-content/uploads/2021/12/NuurezTours-Thumbnail.jpg
END:VEVENT
BEGIN:VEVENT
DTSTART;TZID=America/New_York:20220205T080000
DTEND;TZID=America/New_York:20220205T210000
DTSTAMP:20260419T150845
CREATED:20211229T210651Z
LAST-MODIFIED:20230321T111535Z
UID:53984-1644048000-1644094800@noellerandall.com
SUMMARY:NuuRezTours - Orlando\, FL
DESCRIPTION:Join real estate entrepreneur Noelle Randall and the Nuu Rez Inc. “A-Team” as they take you inside some of their most profitable Airbnb properties in sunny Orlando\, FL. \nThe Nuu Rez team will be breaking down EXACTLY how they acquire\, furnish\, and market each property to ensure maximum occupancy and PROFIT all year round. We will be deep diving and answering your Airbnb questions down to the decimal!\n\n#NuuRezTours will not be just another tour around town…\n\nYou will be learning a WEALTH of knowledge  while being surrounded by an incredible network of business-minded people! Take this opportunity to ask questions\, exchange contacts\, and build life long business partnerships that will take YOUR business to the next Level!
URL:https://noellerandall.com/event/nuureztours-orlando-fl/
LOCATION:Embassy Suites by Hilton Orlando Lake Buena Vista South\, 4955 Kyngs Heath Rd\, Kissimmee\, FL\, 34746\, United States
CATEGORIES:NuuRez Tours
ATTACH;FMTTYPE=image/jpeg:https://noellerandall.com/wp-content/uploads/2021/12/Nuurez-Team.jpg
END:VEVENT
BEGIN:VEVENT
DTSTART;TZID=America/New_York:20220122T100000
DTEND;TZID=America/New_York:20220122T170000
DTSTAMP:20260419T150845
CREATED:20211221T181751Z
LAST-MODIFIED:20230321T111454Z
UID:53539-1642845600-1642870800@noellerandall.com
SUMMARY:Grow Your Wealth Bootcamp
DESCRIPTION:Spend the day with Noelle and her Master Coaches in this virtual event designed to help you learn how to start and grow your business and how to make your dreams of real estate entrepreneurship a reality.
URL:https://noellerandall.com/event/grow-your-wealth-bootcamp/
LOCATION:FL
CATEGORIES:Virtual Bootcamp
ATTACH;FMTTYPE=image/jpeg:https://noellerandall.com/wp-content/uploads/2021/12/GYW-Event-WhiteBackground.jpg
ORGANIZER;CN="Noelle Randall Coaching":MAILTO:contact@noellerandall.com
END:VEVENT
BEGIN:VEVENT
DTSTART;TZID=America/New_York:20220106T110000
DTEND;TZID=America/New_York:20220106T113000
DTSTAMP:20260419T150845
CREATED:20211229T213539Z
LAST-MODIFIED:20230321T111356Z
UID:53994-1641466800-1641468600@noellerandall.com
SUMMARY:YouTube LIVE
DESCRIPTION:Join Noelle for a special YouTube LIVE broadcast on January 6th\, 2022. She will be giving some important tips for your business and making some special announcements.
URL:https://noellerandall.com/event/youtube-live/
LOCATION:FL
CATEGORIES:LIVE Broadcasts
ATTACH;FMTTYPE=image/jpeg:https://noellerandall.com/wp-content/uploads/2021/12/NoelleRandall-ProfilePic3.jpg
END:VEVENT
END:VCALENDAR