BEGIN:VCALENDAR
VERSION:2.0
PRODID:-//Noelle Randall - ECPv6.15.20//NONSGML v1.0//EN
CALSCALE:GREGORIAN
METHOD:PUBLISH
X-WR-CALNAME:Noelle Randall
X-ORIGINAL-URL:https://noellerandall.com
X-WR-CALDESC:Events for Noelle Randall
REFRESH-INTERVAL;VALUE=DURATION:PT1H
X-Robots-Tag:noindex
X-PUBLISHED-TTL:PT1H
BEGIN:VTIMEZONE
TZID:America/New_York
BEGIN:DAYLIGHT
TZOFFSETFROM:-0500
TZOFFSETTO:-0400
TZNAME:EDT
DTSTART:20240310T070000
END:DAYLIGHT
BEGIN:STANDARD
TZOFFSETFROM:-0400
TZOFFSETTO:-0500
TZNAME:EST
DTSTART:20241103T060000
END:STANDARD
BEGIN:DAYLIGHT
TZOFFSETFROM:-0500
TZOFFSETTO:-0400
TZNAME:EDT
DTSTART:20250309T070000
END:DAYLIGHT
BEGIN:STANDARD
TZOFFSETFROM:-0400
TZOFFSETTO:-0500
TZNAME:EST
DTSTART:20251102T060000
END:STANDARD
BEGIN:DAYLIGHT
TZOFFSETFROM:-0500
TZOFFSETTO:-0400
TZNAME:EDT
DTSTART:20260308T070000
END:DAYLIGHT
BEGIN:STANDARD
TZOFFSETFROM:-0400
TZOFFSETTO:-0500
TZNAME:EST
DTSTART:20261101T060000
END:STANDARD
END:VTIMEZONE
BEGIN:VEVENT
DTSTART;TZID=America/New_York:20250909T180000
DTEND;TZID=America/New_York:20250909T190000
DTSTAMP:20260421T170208
CREATED:20250614T214735Z
LAST-MODIFIED:20250614T214906Z
UID:82100-1757440800-1757444400@noellerandall.com
SUMMARY:FL REIA - Florida Real Estate Investors Association Quarterly Meeting (Virtual Event)
DESCRIPTION:Welcome Real Estate Lovers! This event is for everyone interested in real estate\, real estate investing\, growing their wealth through real estate and being part of a group of driven and like-minded individuals\, who come together to network\, learn and grow. You’re new to real estate? Do you want to learn from successful entrepreneurs in this field? Would you like to learn how to buy houses with no cash and bad credit? Would you like to build wealth through passive income? Enjoy free training with Noelle Randall\, a thriving real estate entrepreneur and many other professionals in this field. Get a chance to connect with insurance vendors\, contractors\, real estate agents\, receive information about funding options and much more. We’d love to have you as part of our network! Everyone is welcome! Register now for this LIVE Zoom event!
URL:https://noellerandall.com/event/flreia-090925/
CATEGORIES:FL REIA,Virtual Event
ATTACH;FMTTYPE=image/png:https://noellerandall.com/wp-content/uploads/2024/03/FLREIA-VirtualEvent.png
END:VEVENT
END:VCALENDAR